BEGIN:VCALENDAR
VERSION:2.0
PRODID:-//InvisionCommunity Events 4.7.24//EN
METHOD:PUBLISH
CALSCALE:GREGORIAN
REFRESH-INTERVAL:PT15M
X-PUBLISHED-TTL:PT15M
X-WR-CALNAME:BTS SCHEDULE
NAME:BTS SCHEDULE
BEGIN:VTIMEZONE
TZID:Europe/London
TZURL:http://tzurl.org/zoneinfo/Europe/London
X-LIC-LOCATION:Europe/London
BEGIN:DAYLIGHT
TZOFFSETFROM:+0000
TZOFFSETTO:+0100
TZNAME:BST
DTSTART:20230326T020000Z
RRULE:FREQ=YEARLY;BYMONTH=3;BYDAY=-1SU
END:DAYLIGHT
BEGIN:STANDARD
TZOFFSETFROM:+0100
TZOFFSETTO:+0000
TZNAME:GMT
DTSTART:20231029T020000Z
RRULE:FREQ=YEARLY;BYMONTH=10;BYDAY=-1SU
END:STANDARD
END:VTIMEZONE
BEGIN:VEVENT
SUMMARY:\"Take Two\" Release
DTSTAMP:20230604T060336Z
SEQUENCE:0
UID:40-1-7b5b72d3c9e9a42efc4b84dfdbe330e7@bangtanbase.com
ORGANIZER;CN="jin":bangtanbaseforum@gmail.com
DESCRIPTION:\n	BTS' song for their anniversary releases today! It featur
	es all 7 members\, even the ones currently in the military.\n\n
DTSTART;VALUE=DATE:20230609
END:VEVENT
END:VCALENDAR
