BEGIN:VCALENDAR
VERSION:2.0
PRODID:-//InvisionCommunity Events 4.7.24//EN
METHOD:PUBLISH
CALSCALE:GREGORIAN
REFRESH-INTERVAL:PT15M
X-PUBLISHED-TTL:PT15M
X-WR-CALNAME:BTS SCHEDULE
NAME:BTS SCHEDULE
BEGIN:VTIMEZONE
TZID:Europe/London
TZURL:http://tzurl.org/zoneinfo/Europe/London
X-LIC-LOCATION:Europe/London
BEGIN:DAYLIGHT
TZOFFSETFROM:+0000
TZOFFSETTO:+0100
TZNAME:BST
DTSTART:20240331T020000Z
RRULE:FREQ=YEARLY;BYMONTH=3;BYDAY=-1SU
END:DAYLIGHT
BEGIN:STANDARD
TZOFFSETFROM:+0100
TZOFFSETTO:+0000
TZNAME:GMT
DTSTART:20241027T020000Z
RRULE:FREQ=YEARLY;BYMONTH=10;BYDAY=-1SU
END:STANDARD
END:VTIMEZONE
BEGIN:VEVENT
SUMMARY:V 'TYPE 1' Magazine ver. Releases Today!
DTSTAMP:20240628T055213Z
SEQUENCE:0
UID:56-1-7b5b72d3c9e9a42efc4b84dfdbe330e7@bangtanbase.com
ORGANIZER;CN="jin":bangtanbaseforum@gmail.com
DESCRIPTION:\n	This photobook captures V’s moments of complete rest\, 
	revealing his comfortable and natural self as he takes a break from his bu
	sy schedule to enjoy some time alone.\n\n	The artist selected the travel d
	estination\, decided on the title and package items\, personally participa
	ted in planning\, and meticulously prepared everything. The photo book’s
	 152 pages are packed with a wide assortment of moments he wants to share 
	with ARMY.\n\n	\n\n	Designed to be handy so you can take it anywhere\,\n\n
		“TYPE 1” Magazine ver. will be available for pre-order starting June 
	27 and will be officially released on August 6.\n\n	 \n\n
DTSTART;VALUE=DATE:20240806
END:VEVENT
END:VCALENDAR
