BEGIN:VCALENDAR
VERSION:2.0
PRODID:-//InvisionCommunity Events 4.7.24//EN
METHOD:PUBLISH
CALSCALE:GREGORIAN
REFRESH-INTERVAL:PT15M
X-PUBLISHED-TTL:PT15M
X-WR-CALNAME:BTS SCHEDULE
NAME:BTS SCHEDULE
BEGIN:VTIMEZONE
TZID:Europe/London
TZURL:http://tzurl.org/zoneinfo/Europe/London
X-LIC-LOCATION:Europe/London
BEGIN:DAYLIGHT
TZOFFSETFROM:+0000
TZOFFSETTO:+0100
TZNAME:BST
DTSTART:20240331T020000Z
RRULE:FREQ=YEARLY;BYMONTH=3;BYDAY=-1SU
END:DAYLIGHT
BEGIN:STANDARD
TZOFFSETFROM:+0100
TZOFFSETTO:+0000
TZNAME:GMT
DTSTART:20241027T020000Z
RRULE:FREQ=YEARLY;BYMONTH=10;BYDAY=-1SU
END:STANDARD
END:VTIMEZONE
BEGIN:VEVENT
SUMMARY:V 'TYPE 1' Releases Today!
DTSTAMP:20240628T055338Z
SEQUENCE:0
UID:57-1-7b5b72d3c9e9a42efc4b84dfdbe330e7@bangtanbase.com
ORGANIZER;CN="jin":bangtanbaseforum@gmail.com
DESCRIPTION:\n	This photobook captures V’s moments of complete rest\, 
	revealing his comfortable and natural self as he takes a break from his bu
	sy schedule to enjoy some time alone. V participated in every step of the 
	planning and production\, from selecting the travel destination to decidin
	g on the title and the photobook’s components\, culminating in a 224-pag
	e photobook packed with various moments he wishes to share with ARMY.\n\n	
	\n\n	Not only will each chapter in the photobook help you learn more about
	 V\, or Kim Taehyung\, in depth\, the photobook will serve as a precious a
	ddition to your collection\, with included items such as a bookmark\, a po
	stcard set\, and photo stickers that capture the adventurous vibes of trav
	eling.\n\n	\n\n	“TYPE 1\,” a collage of V’s personal taste\, is avai
	lable for pre-order starting June 27 and will officially release on July 9
	.\n\n	\n\n	* “TYPE 1” includes chapters that are not included in the &
	lt\;Magazine ver.&gt\;.\n\n
DTSTART;VALUE=DATE:20240709
END:VEVENT
END:VCALENDAR
