BEGIN:VCALENDAR
VERSION:2.0
PRODID:-//InvisionCommunity Events 4.7.24//EN
METHOD:PUBLISH
CALSCALE:GREGORIAN
REFRESH-INTERVAL:PT15M
X-PUBLISHED-TTL:PT15M
X-WR-CALNAME:BTS SCHEDULE
NAME:BTS SCHEDULE
BEGIN:VTIMEZONE
TZID:Europe/London
TZURL:http://tzurl.org/zoneinfo/Europe/London
X-LIC-LOCATION:Europe/London
BEGIN:DAYLIGHT
TZOFFSETFROM:+0000
TZOFFSETTO:+0100
TZNAME:BST
DTSTART:20250330T020000Z
RRULE:FREQ=YEARLY;BYMONTH=3;BYDAY=-1SU
END:DAYLIGHT
BEGIN:STANDARD
TZOFFSETFROM:+0100
TZOFFSETTO:+0000
TZNAME:GMT
DTSTART:20251026T020000Z
RRULE:FREQ=YEARLY;BYMONTH=10;BYDAY=-1SU
END:STANDARD
END:VTIMEZONE
BEGIN:VEVENT
SUMMARY:J-Hope - Sweet Dreams (feat. Miguel)
DTSTAMP:20250306T003042Z
SEQUENCE:0
UID:76-1-7b5b72d3c9e9a42efc4b84dfdbe330e7@bangtanbase.com
ORGANIZER;CN="Sockz":bangtanbaseforum@gmail.com
DESCRIPTION:\n	https://jhope.lnk.to/SweetDreams\n\n\n\n	^^ Link to pre-s
	ave from BTS's Twitter\n\n\n\n	Please support our sunshine!\n\n\n
DTSTART;VALUE=DATE:20250307
END:VEVENT
END:VCALENDAR
